BEGIN:VCALENDAR
VERSION:2.0
PRODID:SchoolNow
CALSCALE:GREGORIAN
BEGIN:VEVENT
UID:9fe4f16e-3cfa-11f1-93f3-0a58a9feac02
DTSTAMP:20260424T100216Z
SUMMARY:Last Day of ESY Summer Program
LOCATION:Phoenix Academy
URL;VALUE=URI:https://www.lasecfp.org/phoenix-academy/calendar/9008018/last
 -day-of-esy-summer-program
DTSTART:20260625T050000Z
DTEND:20260626T050000Z
END:VEVENT
END:VCALENDAR
