BEGIN:VCALENDAR
VERSION:2.0
PRODID:SchoolNow
CALSCALE:GREGORIAN
BEGIN:VEVENT
UID:9fe4f4c0-3cfa-11f1-bddd-0a58a9feac02
DTSTAMP:20260424T160604Z
SUMMARY:1st Day of ESY Summer Program
URL;VALUE=URI:https://www.lasecfp.org/phoenix-academy/calendar/9008019/1st-
 day-of-esy-summer-program
DTSTART:20260602T050000Z
DTEND:20260603T050000Z
END:VEVENT
END:VCALENDAR
